BEGIN:VCALENDAR
VERSION:2.0
PRODID:-//Mark Taratushkin
 //NONSGML Events //EN
CALSCALE:GREGORIAN
X-WR-CALNAME:Mark Taratushkin
BEGIN:VEVENT
CREATED:20231114T104507Z
UID:1180
DTEND;TZID="Europe/Berlin":20231021T213000
DTSTART;TZID="Europe/Berlin":20231021T193000
DTSTAMP:20260415T180228Z
LOCATION:
DESCRIPTION:
SUMMARY:Mark Taratushkin - Festival &#8220\;Spielart&#8221\; &#8211\; Rhapsody in Yellow
ORGANIZER:Mark Taratushkin
URL;VALUE=URI:https://marktaratushkin.com/concerts/festival-spielart-rhapsody-in-yellow/
TRANSP:OPAQUE
BEGIN:VALARM
ACTION:DISPLAY
TRIGGER;VALUE=DATE-TIME:20260415T180228Z
DESCRIPTION:Reminder for Festival &#8220\;Spielart&#8221\; &#8211\; Rhapsody in Yellow
END:VALARM
END:VEVENT
END:VCALENDAR
